BEGIN:VCALENDAR
VERSION:2.0
PRODID:-//APEP·IA | Asociación Profesional Española de Privacidad e Inteligencia Artificial
CALSCALE:GREGORIAN
METHOD:PUBLISH
X-WR-CALNAME:APEP·IA | Asociación Profesional Española de Privacidad e Inteligencia Artificial
X-ORIGINAL-URL:https://apepia.com/producto/frias-una-aplicacion-practica/
X-WR-CALDESC:FRIAS: Introducción a la Evaluación del Riesgo
BEGIN:VTIMEZONE
TZID:Europe/Helsinki
END:VTIMEZONE
BEGIN:VEVENT
DTSTART;TZID=Europe/Helsinki:20260601T000000
DTEND;TZID=Europe/Helsinki:20260705T000000
DTSTAMP:20260425T143323
UID:29703-luis.fantini@gmail.com
SUMMARY:FRIAS: Introducción a la Evaluación del Riesgo
DESCRIPTION:
URL:https://apepia.com/producto/frias-una-aplicacion-practica/
LOCATION:
END:VEVENT
END:VCALENDAR
